BEGIN:VCALENDAR
VERSION:2.0
PRODID:-//ChamberMaster//Event Calendar 2.0//EN
METHOD:PUBLISH
X-PUBLISHED-TTL:P3D
REFRESH-INTERVAL:P3D
CALSCALE:GREGORIAN
BEGIN:VEVENT
DTSTART:20230603T160000Z
DTEND:20230603T180000Z
X-MICROSOFT-CDO-ALLDAYEVENT:FALSE
SUMMARY:Rockaway Beach Cleanup
DESCRIPTION:We will meet at the north parking lot in the corner by the Best Western hotel (this is the lot from Rockaway to the Quarry). Bags and gloves will be provided but if you can\, bring your own bucket and gloves and we'll be even more sustainable. Please also pass this information on to others who may be interested.
X-ALT-DESC;FMTTYPE=text/html:We will meet at the north parking lot in the corner by the Best Western hotel (this is the lot from Rockaway to the Quarry). Bags and gloves will be provided but if you can\, bring your own bucket and gloves and we&#39\;ll be even more sustainable. Please also pass this information on to others who may be interested.
LOCATION:Parking Lot at San Marlo Way\, Rockaway Beach\, Pacifica\, CA
UID:e.1153.4173
SEQUENCE:3
DTSTAMP:20260421T123309Z
URL:https://business.pacificachamber.com/events/details/rockaway-beach-cleanup-06-03-2023-4173
END:VEVENT

END:VCALENDAR
