BEGIN:VCALENDAR
VERSION:2.0
PRODID:-//ChamberMaster//Event Calendar 2.0//EN
METHOD:PUBLISH
X-PUBLISHED-TTL:P3D
REFRESH-INTERVAL:P3D
CALSCALE:GREGORIAN
BEGIN:VEVENT
DTSTART:20230603T143000Z
DTEND:20230603T230000Z
X-MICROSOFT-CDO-ALLDAYEVENT:FALSE
SUMMARY:Pedro Point Surf Club
DESCRIPTION:Pedro Point Surf Club\n\nPresents: GROM FEST Vol 3.\n\nYouth Surf Contest
X-ALT-DESC;FMTTYPE=text/html:Pedro Point Surf Club<br />\nPresents: GROM FEST Vol 3.<br />\nYouth Surf Contest
LOCATION:Pacifica/ Linda Mar State Beach 5000 Pacific Coast Highway Pacifica\, CA 94044
UID:e.1153.31451
SEQUENCE:3
DTSTAMP:20260421T122523Z
URL:https://business.pacificachamber.com/events/details/pedro-point-surf-club-31451
END:VEVENT

END:VCALENDAR
