BEGIN:VCALENDAR
VERSION:2.0
PRODID:-//ChamberMaster//Event Calendar 2.0//EN
METHOD:PUBLISH
X-PUBLISHED-TTL:P3D
REFRESH-INTERVAL:P3D
CALSCALE:GREGORIAN
BEGIN:VEVENT
DTSTART:20230625T023000Z
DTEND:20230625T050000Z
X-MICROSOFT-CDO-ALLDAYEVENT:FALSE
SUMMARY:Pacifica Performances
DESCRIPTION:Pacifica Performances\n\nChris Cain Band
X-ALT-DESC;FMTTYPE=text/html:Pacifica Performances<br />\nChris Cain Band
LOCATION:Mildred Owen Concert Hall 1220 Linda Mar Blvd. Pacifica\, CA 94044
UID:e.1153.34259
SEQUENCE:3
DTSTAMP:20260421T123043Z
URL:https://business.pacificachamber.com/events/details/pacifica-performances-34259
END:VEVENT

END:VCALENDAR
