BEGIN:VCALENDAR
VERSION:2.0
PRODID:-//ChamberMaster//Event Calendar 2.0//EN
METHOD:PUBLISH
X-PUBLISHED-TTL:P3D
REFRESH-INTERVAL:P3D
CALSCALE:GREGORIAN
BEGIN:VEVENT
DTSTART:20230605T000000Z
DTEND:20230605T040000Z
X-MICROSOFT-CDO-ALLDAYEVENT:FALSE
SUMMARY:Pacifica Performances
DESCRIPTION:Pacifica Performances\n\nThe Country Line Trio\n\n53 Years Celebration
X-ALT-DESC;FMTTYPE=text/html:Pacifica Performances<br />\nThe Country Line Trio<br />\n53 Years Celebration
LOCATION:Mildred Owen Concert Hall 1220 Linda Mar Blvd. Pacifica\, CA 94044
UID:e.1153.34257
SEQUENCE:3
DTSTAMP:20260421T123044Z
URL:https://business.pacificachamber.com/events/details/pacifica-performances-34257
END:VEVENT

END:VCALENDAR
