BEGIN:VCALENDAR
VERSION:2.0
PRODID:-//ChamberMaster//Event Calendar 2.0//EN
METHOD:PUBLISH
X-PUBLISHED-TTL:P3D
REFRESH-INTERVAL:P3D
CALSCALE:GREGORIAN
BEGIN:VEVENT
DTSTART:20240831T170000Z
DTEND:20240831T210000Z
X-MICROSOFT-CDO-ALLDAYEVENT:FALSE
SUMMARY:Moose Lodge Fundraiser Walk
DESCRIPTION:HOPE Overdose Prevention Fundraiser Walk\n\nSpeakers\n\nCommunity Resources\n\nSilent Action & Raffle Prizes\n\nActivities \n\nMemorial Walk to Community Center\n\nGarden-Vallemar
X-ALT-DESC;FMTTYPE=text/html:HOPE Overdose Prevention Fundraiser Walk<br />\nSpeakers<br />\nCommunity Resources<br />\nSilent Action &amp\; Raffle Prizes<br />\nActivities&nbsp\;<br />\nMemorial Walk to Community Center<br />\nGarden-Vallemar
LOCATION:Moose Lodge 776 Bradford Way Pacifica\, CA 94044
UID:e.1153.37452
SEQUENCE:3
DTSTAMP:20260420T180141Z
URL:https://business.pacificachamber.com/events/details/moose-lodge-fundraiser-walk-37452
END:VEVENT

END:VCALENDAR
