BEGIN:VCALENDAR
VERSION:2.0
PRODID:-//ChamberMaster//Event Calendar 2.0//EN
METHOD:PUBLISH
X-PUBLISHED-TTL:P3D
REFRESH-INTERVAL:P3D
CALSCALE:GREGORIAN
BEGIN:VEVENT
DTSTART:20230607T210000Z
DTEND:20230608T010000Z
X-MICROSOFT-CDO-ALLDAYEVENT:FALSE
SUMMARY:Farmers Market
DESCRIPTION:Coastside Farmers Market
X-ALT-DESC;FMTTYPE=text/html:&nbsp\;Coastside Farmers Market
LOCATION:Rockaway Beach 400 Old County Road
UID:e.1153.31418
SEQUENCE:3
DTSTAMP:20260421T123600Z
URL:https://business.pacificachamber.com/events/details/farmers-market-06-07-2023-31418
END:VEVENT

END:VCALENDAR
