BEGIN:VCALENDAR
VERSION:2.0
PRODID:-//ChamberMaster//Event Calendar 2.0//EN
METHOD:PUBLISH
X-PUBLISHED-TTL:P3D
REFRESH-INTERVAL:P3D
CALSCALE:GREGORIAN
BEGIN:VEVENT
DTSTART:20190317T210000Z
DTEND:20190317T230000Z
X-MICROSOFT-CDO-ALLDAYEVENT:FALSE
SUMMARY:Theater: Other Desert Cities
DESCRIPTION:Pacifica Spindrift Players Presents:\n\nOther Desert Cities\nWritten by: Jon Robin Baitz\n\nBrooke Wyeth returns home to Palm Springs after a six-year absence to celebrate Christmas with her parents\, her brother\, and her aunt. Brooke announces that she is about to publish a memoir dredging up a pivotal and tragic event in the family's history a wound they don't want reopened. In effect\, she draws a line in the sand and dares them all to cross it.
X-ALT-DESC;FMTTYPE=text/html:Pacifica Spindrift Players Presents:<br />\n<strong>Other Desert Cities</strong>\n<p style="margin: 0px 0px 20px\; padding: 0px\; border: 0px\; vertical-align: baseline\; color: rgb(85\, 85\, 85)\; font-family: Arial\, Helvetica\, sans-serif\; text-align: justify\;"><strong style="margin: 0px\; padding: 0px\; border: 0px\; vertical-align: baseline\;">Written by:&nbsp\;</strong>Jon Robin Baitz</p>\n\n<p style="margin: 0px 0px 20px\; padding: 0px\; border: 0px\; vertical-align: baseline\; color: rgb(85\, 85\, 85)\; font-family: Arial\, Helvetica\, sans-serif\; text-align: justify\;">Brooke Wyeth returns home to Palm Springs after a six-year absence to celebrate Christmas with her parents\, her brother\, and her aunt. Brooke announces that she is about to publish a memoir dredging up a pivotal and tragic event in the family&rsquo\;s history&mdash\;a wound they don&rsquo\;t want reopened. In effect\, she draws a line in the sand and dares them all to cross it.</p>\n
LOCATION:Spindrift Theater 1050 Crespi Drive Pacifica\, California 94044
UID:e.1153.18421
SEQUENCE:3
DTSTAMP:20260419T175000Z
URL:http://business.pacificachamber.com/events/details/theater-other-desert-cities-03-17-2019-18421
END:VEVENT

END:VCALENDAR
